BEGIN:VCALENDAR
PRODID:-//PUBBLE//agenda//NL
VERSION:2.0
METHOD:PUBLISH
BEGIN:VEVENT
DTSTART:20260508T180000Z
DTEND:20260508T190000Z
DTSTAMP:20260424T082122Z
UID:6895a9f4-65e6-4abc-82c6-10feb1ccd497
CREATED:20260424T082122Z
NAME:Moederdagbingo oudega-swf.nl
X-WR-CALNAME:Moederdagbingo
X-ALT-DESC;FMTTYPE=text/html:<a href='/agenda/2026/5/8/moederdagbingo-130590'>/agenda/2026/5/8/moederdagbingo-130590</a> || <p>Moederdagbingo op 8 mei om 20.00 in MFA De Kompenije te Jubbega. Vanaf 12 jaar. Vol is vol!</p>
DESCRIPTION:<a href='/agenda/2026/5/8/moederdagbingo-130590'>/agenda/2026/5/8/moederdagbingo-130590</a> || <p>Moederdagbingo op 8 mei om 20.00 in MFA De Kompenije te Jubbega. Vanaf 12 jaar. Vol is vol!</p>
LAST-MODIFIED:20260424T082122Z
LOCATION: De Kompenije  | Ericalaan 24 Jubbega
SEQUENCE:0
STATUS:CONFIRMED
SUMMARY:Moederdagbingo
TRANSP:OPAQUE
END:VEVENT
END:VCALENDAR
