BEGIN:VCALENDAR
PRODID:-//PUBBLE//agenda//NL
VERSION:2.0
METHOD:PUBLISH
BEGIN:VEVENT
DTSTART:20260517T000000Z
DTEND:20260517T000000Z
DTSTAMP:20260420T113312Z
UID:d2d9c81e-c8a2-4ea3-92f7-56f5a1c8d4da
CREATED:20260420T113312Z
NAME:Lunchconcert door het Balkankoor oudega-swf.nl
X-WR-CALNAME:Lunchconcert door het Balkankoor
X-ALT-DESC;FMTTYPE=text/html:<a href='/agenda/2026/5/17/lunchconcert-door-het-balkankoor-130603'>/agenda/2026/5/17/lunchconcert-door-het-balkankoor-130603</a> || <p><strong>Lunchconcert door het Balkankoor</strong><br><strong> zondag 17 mei 2026 van 12.00 tot 13.00 uur</strong><br><strong>(kerk open om 11.30 uur).</strong></p>
<p>Het Balkankoor zingt - onder leiding van Johanna Oudejans - meerstemmige liederen uit de Balkanlanden en liederen uit Armenië en Georgië.</p>
<p>De toegang is gratis!<br>Na afloop s.v.p. een vrijwillige bijdrage!</p>
<p>Voor meer informatie: <a href="mailto:willemwolfert@gmail.com">willemwolfert@gmail.com</a>&nbsp;.</p>
<p><em>Bij de Dorpskerk is weinig parkeerruimte. Bezoekers kunnen - op korte loopafstand en gratis - parkeren op het ruime parkeerterrein tegenover Intratuin (zuidzijde Tijnjedijk).</em></p>
<p><strong>Tijdstip</strong><br>12.00 - 13.00 uur</p>
<p><strong>Entree</strong><br>Vrijwillige bijdrage</p>
<p><strong>Informatie of reservering</strong><br></p>
<p>Reservering is niet van toepassing.</p>
DESCRIPTION:<a href='/agenda/2026/5/17/lunchconcert-door-het-balkankoor-130603'>/agenda/2026/5/17/lunchconcert-door-het-balkankoor-130603</a> || <p><strong>Lunchconcert door het Balkankoor</strong><br><strong> zondag 17 mei 2026 van 12.00 tot 13.00 uur</strong><br><strong>(kerk open om 11.30 uur).</strong></p>
<p>Het Balkankoor zingt - onder leiding van Johanna Oudejans - meerstemmige liederen uit de Balkanlanden en liederen uit Armenië en Georgië.</p>
<p>De toegang is gratis!<br>Na afloop s.v.p. een vrijwillige bijdrage!</p>
<p>Voor meer informatie: <a href="mailto:willemwolfert@gmail.com">willemwolfert@gmail.com</a>&nbsp;.</p>
<p><em>Bij de Dorpskerk is weinig parkeerruimte. Bezoekers kunnen - op korte loopafstand en gratis - parkeren op het ruime parkeerterrein tegenover Intratuin (zuidzijde Tijnjedijk).</em></p>
<p><strong>Tijdstip</strong><br>12.00 - 13.00 uur</p>
<p><strong>Entree</strong><br>Vrijwillige bijdrage</p>
<p><strong>Informatie of reservering</strong><br></p>
<p>Reservering is niet van toepassing.</p>
LAST-MODIFIED:20260420T113312Z
LOCATION: Onbekend | Huizum Dorp 67 Leeuwarden
SEQUENCE:0
STATUS:CONFIRMED
SUMMARY:Lunchconcert door het Balkankoor
TRANSP:OPAQUE
END:VEVENT
END:VCALENDAR
