BEGIN:VCALENDAR
PRODID:-//PUBBLE//agenda//NL
VERSION:2.0
METHOD:PUBLISH
BEGIN:VEVENT
DTSTART:20260421T114435Z
DTEND:20260421T124435Z
DTSTAMP:20260424T153611Z
UID:12597ac0-6ffc-4080-8dd8-76cb2b29ad43
CREATED:20260424T153611Z
NAME:Jazz Operators verzorgen zondagmiddagconcert in kerk van Goënga oudega-swf.nl
X-WR-CALNAME:Jazz Operators verzorgen zondagmiddagconcert in kerk van Goënga
X-ALT-DESC;FMTTYPE=text/html:<a href='/agenda/2026/4/26/jazz-operators-verzorgen-zondagmiddagconcert-in-kerk-van-goenga-130876'>/agenda/2026/4/26/jazz-operators-verzorgen-zondagmiddagconcert-in-kerk-van-goenga-130876</a> || <p><strong>GOËNGA - In de kerk van Goënga verzorgt de band Jazz Operators op zondag 26 april 2026 een zondagmiddagconcert. Het optreden begint om 15.00 uur. De toegang is gratis; bezoekers kunnen een vrijwillige bijdrage geven in het ponkje. Betalen kan contant.</strong></p><p>De Jazz Operators nemen het publiek mee in een sfeervolle middag vol jazz, swing en herkenbare melodieën. De band staat bekend om een karakteristieke sound, verfijnde arrangementen en een warme podiumprésence. Daarmee weten de muzikanten de kerk van Goënga moeiteloos om te toveren tot een intieme jazzclub.</p><p>Op het repertoire staan jazzstandards, swingende klassiekers en verrassende bewerkingen van popnummers. Met vakmanschap, flair en zichtbaar speelplezier zorgen de Jazz Operators voor een optreden dat stijlvol, speels en meeslepend is. De band bestaat uit Jildou de Vries (zang), Martijn van Limbeek (keys/piano), Theo Smit (contrabas) en Ron Eshuijs (drums).</p><p>Wie houdt van live muziek in een bijzondere setting, kan zondagmiddag 26 april terecht in de kerk van Goënga voor een concert vol sfeer en muzikaliteit. Meer informatie is te vinden via <a href="http://www.stichtingkerkgebouwgoenga.nl" rel="noopener noreferrer" target="_blank">www.stichtingkerkgebouwgoenga.nl</a><a href="http://www.stichtingkerkgebouwgoenga.nl" rel="noopener" target="_blank"></a><strong><a href="http://www.stichtingkerkgebouwgoenga.nl" rel="noopener" target="_blank"></a></strong>.</p>
DESCRIPTION:<a href='/agenda/2026/4/26/jazz-operators-verzorgen-zondagmiddagconcert-in-kerk-van-goenga-130876'>/agenda/2026/4/26/jazz-operators-verzorgen-zondagmiddagconcert-in-kerk-van-goenga-130876</a> || <p><strong>GOËNGA - In de kerk van Goënga verzorgt de band Jazz Operators op zondag 26 april 2026 een zondagmiddagconcert. Het optreden begint om 15.00 uur. De toegang is gratis; bezoekers kunnen een vrijwillige bijdrage geven in het ponkje. Betalen kan contant.</strong></p><p>De Jazz Operators nemen het publiek mee in een sfeervolle middag vol jazz, swing en herkenbare melodieën. De band staat bekend om een karakteristieke sound, verfijnde arrangementen en een warme podiumprésence. Daarmee weten de muzikanten de kerk van Goënga moeiteloos om te toveren tot een intieme jazzclub.</p><p>Op het repertoire staan jazzstandards, swingende klassiekers en verrassende bewerkingen van popnummers. Met vakmanschap, flair en zichtbaar speelplezier zorgen de Jazz Operators voor een optreden dat stijlvol, speels en meeslepend is. De band bestaat uit Jildou de Vries (zang), Martijn van Limbeek (keys/piano), Theo Smit (contrabas) en Ron Eshuijs (drums).</p><p>Wie houdt van live muziek in een bijzondere setting, kan zondagmiddag 26 april terecht in de kerk van Goënga voor een concert vol sfeer en muzikaliteit. Meer informatie is te vinden via <a href="http://www.stichtingkerkgebouwgoenga.nl" rel="noopener noreferrer" target="_blank">www.stichtingkerkgebouwgoenga.nl</a><a href="http://www.stichtingkerkgebouwgoenga.nl" rel="noopener" target="_blank"></a><strong><a href="http://www.stichtingkerkgebouwgoenga.nl" rel="noopener" target="_blank"></a></strong>.</p>
LAST-MODIFIED:20260424T153611Z
LOCATION: Kerkje Goenga | Hege Wier 28 Goënga
SEQUENCE:0
STATUS:CONFIRMED
SUMMARY:Jazz Operators verzorgen zondagmiddagconcert in kerk van Goënga
TRANSP:OPAQUE
END:VEVENT
END:VCALENDAR
