BEGIN:VCALENDAR
PRODID:-//PUBBLE//agenda//NL
VERSION:2.0
METHOD:PUBLISH
BEGIN:VEVENT
DTSTART:20260421T212717Z
DTEND:20260421T222717Z
DTSTAMP:20260422T115340Z
UID:0fd32c5b-8ce4-4ec2-afb3-875be145ecf3
CREATED:20260422T115340Z
NAME:Lezing: ‘Een weg naar gezondheid van lichaam en ziel’ oudega-swf.nl
X-WR-CALNAME:Lezing: ‘Een weg naar gezondheid van lichaam en ziel’
X-ALT-DESC;FMTTYPE=text/html:<a href='/agenda/2026/5/6/lezing-een-weg-naar-gezondheid-van-lichaam-en-ziel-130908'>/agenda/2026/5/6/lezing-een-weg-naar-gezondheid-van-lichaam-en-ziel-130908</a> || <p>GORREDIJK - Woensdag 6 mei is er in de Skâns, Loaijersstrjitte 2, 8401 DV Gorredijk een lezing over Bruno Gröning, een weg naar gezondheid van lichaam en ziel. De lezing begint om 19.30 uur en is gratis toegankelijk, op basis van een vrijwillige gift.</p><p>Bruno Gröning leefde van 1906 tot 1959 in Duitsland. Hij wees er de mensen op dat er een genezende kracht in de kosmos bestaat, die hij “Heilstrom” noemde en hij legde genezing zoekenden uit hoe ze door opname van deze kracht gezond konden worden. Tot zijn dood in 1959 gebeurden er tijdens zijn voordrachten in Duitsland en Oostenrijk talloze genezingen, ook van ongeneeslijke ziekten. Ook na zijn dood gingen de genezingen verder en werd de Bruno Gröning-Vriendenkring opgericht.&nbsp;</p><p>Tijdens de lezing kunt u zelf de genezende kracht ervaren. Er wordt uitleg gegeven over Bruno Gröning en zijn leer en hoe u dit voor uzelf kunt toepassen. Medisch gecontroleerde genezingen worden voorgesteld en toegelicht.</p><p>Bruno Gröning vergeleek de mensen met een batterij, die steeds weer opgeladen moet worden, zodat hij gezond en energiek zijn leven vorm kan geven. Op verschillende plaatsen (o.a. Groningen, Drachten, Assen, Zwolle en Hoogeveen) vinden er iedere drie weken bijeenkomsten van de Bruno Gröning-Vriendenkring plaats waarbij gezamenlijk de Heilstrom wordt opgenomen. Na deelname aan de lezing kunt u hieraan deelnemen. Ook deze bijeenkomsten zijn op basis van vrijwillige gift.&nbsp;</p><p>Voor informatie voor de lezing kunt u terecht bij 0592-319323 of via internet: <a href="//www.bruno-groening.org/nederlands" rel="noopener noreferrer" target="_blank">www.bruno-groening.org/nederlands</a></p>
DESCRIPTION:<a href='/agenda/2026/5/6/lezing-een-weg-naar-gezondheid-van-lichaam-en-ziel-130908'>/agenda/2026/5/6/lezing-een-weg-naar-gezondheid-van-lichaam-en-ziel-130908</a> || <p>GORREDIJK - Woensdag 6 mei is er in de Skâns, Loaijersstrjitte 2, 8401 DV Gorredijk een lezing over Bruno Gröning, een weg naar gezondheid van lichaam en ziel. De lezing begint om 19.30 uur en is gratis toegankelijk, op basis van een vrijwillige gift.</p><p>Bruno Gröning leefde van 1906 tot 1959 in Duitsland. Hij wees er de mensen op dat er een genezende kracht in de kosmos bestaat, die hij “Heilstrom” noemde en hij legde genezing zoekenden uit hoe ze door opname van deze kracht gezond konden worden. Tot zijn dood in 1959 gebeurden er tijdens zijn voordrachten in Duitsland en Oostenrijk talloze genezingen, ook van ongeneeslijke ziekten. Ook na zijn dood gingen de genezingen verder en werd de Bruno Gröning-Vriendenkring opgericht.&nbsp;</p><p>Tijdens de lezing kunt u zelf de genezende kracht ervaren. Er wordt uitleg gegeven over Bruno Gröning en zijn leer en hoe u dit voor uzelf kunt toepassen. Medisch gecontroleerde genezingen worden voorgesteld en toegelicht.</p><p>Bruno Gröning vergeleek de mensen met een batterij, die steeds weer opgeladen moet worden, zodat hij gezond en energiek zijn leven vorm kan geven. Op verschillende plaatsen (o.a. Groningen, Drachten, Assen, Zwolle en Hoogeveen) vinden er iedere drie weken bijeenkomsten van de Bruno Gröning-Vriendenkring plaats waarbij gezamenlijk de Heilstrom wordt opgenomen. Na deelname aan de lezing kunt u hieraan deelnemen. Ook deze bijeenkomsten zijn op basis van vrijwillige gift.&nbsp;</p><p>Voor informatie voor de lezing kunt u terecht bij 0592-319323 of via internet: <a href="//www.bruno-groening.org/nederlands" rel="noopener noreferrer" target="_blank">www.bruno-groening.org/nederlands</a></p>
LAST-MODIFIED:20260422T115340Z
LOCATION: De Skâns | Loaijersstrjitte  Gorredijk
SEQUENCE:0
STATUS:CONFIRMED
SUMMARY:Lezing: ‘Een weg naar gezondheid van lichaam en ziel’
TRANSP:OPAQUE
END:VEVENT
END:VCALENDAR
