BEGIN:VCALENDAR
PRODID:-//PUBBLE//agenda//NL
VERSION:2.0
METHOD:PUBLISH
BEGIN:VEVENT
DTSTART:20260503T130000Z
DTEND:20260503T170000Z
DTSTAMP:20260422T115747Z
UID:c9d6aee8-88b5-4570-8ee8-4c3eed02b951
CREATED:20260422T115747Z
NAME:Kunstroute Gaasterland oudega-swf.nl
X-WR-CALNAME:Kunstroute Gaasterland
X-ALT-DESC;FMTTYPE=text/html:<a href='/agenda/2026/5/3/kunstroute-gaasterland-130917'>/agenda/2026/5/3/kunstroute-gaasterland-130917</a> || <p>Kunstroute Gaasterland is een initiatief van beeldend kunstenaars die wonen en werken in de Friese streek Gaasterland. Gedurende de maanden mei t/m okt. zijn de ateliers, buiten de eigen openingsdagen, elke 1e zondag van de maand collectief geopend van 13.00 tot 17.00 uur. Zie kunstroute.nl voor adressen.</p>
DESCRIPTION:<a href='/agenda/2026/5/3/kunstroute-gaasterland-130917'>/agenda/2026/5/3/kunstroute-gaasterland-130917</a> || <p>Kunstroute Gaasterland is een initiatief van beeldend kunstenaars die wonen en werken in de Friese streek Gaasterland. Gedurende de maanden mei t/m okt. zijn de ateliers, buiten de eigen openingsdagen, elke 1e zondag van de maand collectief geopend van 13.00 tot 17.00 uur. Zie kunstroute.nl voor adressen.</p>
LAST-MODIFIED:20260422T115747Z
LOCATION: Onbekend | Harichsterstikke 2 Harich
SEQUENCE:0
STATUS:CONFIRMED
SUMMARY:Kunstroute Gaasterland
TRANSP:OPAQUE
END:VEVENT
END:VCALENDAR
