BEGIN:VCALENDAR
PRODID:-//PUBBLE//agenda//NL
VERSION:2.0
METHOD:PUBLISH
BEGIN:VEVENT
DTSTART:20260503T150000Z
DTEND:20260503T160000Z
DTSTAMP:20260422T115530Z
UID:accd321c-894c-4989-9532-3a920d27fce1
CREATED:20260422T115530Z
NAME:Theaterconcert Concentus Profana in Joure oudega-swf.nl
X-WR-CALNAME:Theaterconcert Concentus Profana in Joure
X-ALT-DESC;FMTTYPE=text/html:<a href='/agenda/2026/5/3/theaterconcert-concentus-profana-in-joure-130918'>/agenda/2026/5/3/theaterconcert-concentus-profana-in-joure-130918</a> || <p>Op zondagmiddag 3 mei brengt het chr. regionaal mannenkoor Zingend Verbonden uit Joure een theaterconcert in De Oerdracht. Onder leiding van Lars Mulder presenteert het koor Concentus Profana, een voorstelling waarin zang en toneel samenkomen.</p>
<p>Het concert draait om het fictieve koor ‘Sjong mar ta’, dat tijdens een bijzondere ledenvergadering een programma probeert samen te stellen. Op een humoristische manier ziet het publiek hoe dat proces verloopt en wat daar allemaal bij komt kijken.</p>
<p>De voorstelling begint om 15.00 uur. De toegang is gratis, na afloop is er een collecte bij de uitgang.</p>
DESCRIPTION:<a href='/agenda/2026/5/3/theaterconcert-concentus-profana-in-joure-130918'>/agenda/2026/5/3/theaterconcert-concentus-profana-in-joure-130918</a> || <p>Op zondagmiddag 3 mei brengt het chr. regionaal mannenkoor Zingend Verbonden uit Joure een theaterconcert in De Oerdracht. Onder leiding van Lars Mulder presenteert het koor Concentus Profana, een voorstelling waarin zang en toneel samenkomen.</p>
<p>Het concert draait om het fictieve koor ‘Sjong mar ta’, dat tijdens een bijzondere ledenvergadering een programma probeert samen te stellen. Op een humoristische manier ziet het publiek hoe dat proces verloopt en wat daar allemaal bij komt kijken.</p>
<p>De voorstelling begint om 15.00 uur. De toegang is gratis, na afloop is er een collecte bij de uitgang.</p>
LAST-MODIFIED:20260422T115530Z
LOCATION: De Oerdracht | Elias Annes Borgerstraat 46 Joure
SEQUENCE:0
STATUS:CONFIRMED
SUMMARY:Theaterconcert Concentus Profana in Joure
TRANSP:OPAQUE
END:VEVENT
END:VCALENDAR
