BEGIN:VCALENDAR
PRODID:-//PUBBLE//agenda//NL
VERSION:2.0
METHOD:PUBLISH
BEGIN:VEVENT
DTSTART:20260502T103000Z
DTEND:20260502T120000Z
DTSTAMP:20260424T114007Z
UID:3612c3fa-9d03-4ff5-946a-1b63d79bd289
CREATED:20260424T114007Z
NAME:Helende Soundbath in Tersoal, door Nienke de Heer oudega-swf.nl
X-WR-CALNAME:Helende Soundbath in Tersoal, door Nienke de Heer
X-ALT-DESC;FMTTYPE=text/html:<a href='/agenda/2026/5/2/helende-soundbath-in-tersoal-door-nienke-de-heer-130935'>/agenda/2026/5/2/helende-soundbath-in-tersoal-door-nienke-de-heer-130935</a> || <p><strong>Sprankelen<br /></strong>In deze sessie gaan we via klank naar binnen om de inspiratie die de lente ons brengt, naar buiten te brengen en de ruimte te geven om te kunnen bloeien.<br /><br />Op zaterdag 2 mei kan je genieten van een Soundbath, geleid door Nienke, een professionele zangeres en ervaren klankbegeleidster met een diepe verbondenheid met muziek en harmonie.</p>
<p>Met liefdevolle intenties, klankschalen en diverse instrumenten creëert Nienke een cocon van geluid die je uitnodigt om volledig te ontspannen.<br />Alles even loslaten en jezelf overgeven aan de rustgevende harmonieën.</p>
<p>In een veilige omgeving kan je niet alleen de kalmte ervaren, maar ook de diepte van je emoties en herinneringen.<br />Klanken kunnen een krachtige spiegel zijn, die ons inzicht geven in verborgen schaduwen en patronen.<br />Misschien ontdek je delen van jezelf die om aandacht vragen; de klank zal je ondersteunen bij het verkennen van deze innerlijke reis.<br />Dit kan variëren van vreugdevolle herinneringen tot de confrontatie met datgene wat je wellicht bent vergeten.<br />Tijdens de klankreis ontdek je misschien dat je meer kunt loslaten dan alleen spierspanning, en dat kan een bevrijdend effect hebben.</p>
<p>Ik heb jarenlang ervaring in het begeleiden van klankreizen, zowel individueel als in groepsverband.<br />Muziek is voor mij niet zomaar een passie; het is een levenslange reis waarbij ik altijd op zoek ben gegaan naar harmonie in geluid.<br />Na een conservatoriumstudie heb ik mijn focus verlegd naar klankbeleving, waarbij ik de kennis en intuïtie combineer om een veilige ruimte te creëren voor ontspanning, loslaten en persoonlijke groei.</p>
<p>Ik nodig je van harte uit om deze warme en waardevolle ervaring bij te wonen.<br />Neem eventueel je eigen mat, dekentje en kussen mee, en kom met een open hart en geest.</p>
<p>Het enige wat je hoeft te doen is te liggen en te ontvangen.<br />We sluiten de klankreis af met heerlijke thee en iets lekkers.<br />Ontvang daarnaast een persoonlijke boodschap uit een bijzonder kaartendeck—een inspirerende aanvulling op je ervaring, speciaal voor jou.</p>
<p>Meld je aan via Hipsy, mail@nienke.info of 06-14664116.<br />Ik kijk ernaar uit om samen met jou te genieten van de helende kracht van klank!</p>
<p>&nbsp;Met liefdevolle groet,<br />Nienke</p>
<p>Details van de Soundbath:</p>
<p>•&nbsp;&nbsp;&nbsp;&nbsp;&nbsp;&nbsp;&nbsp;&nbsp;&nbsp;&nbsp;&nbsp;&nbsp; Datum: Zaterdag 2 mei 2026</p>
<p>•&nbsp;&nbsp;&nbsp;&nbsp;&nbsp;&nbsp;&nbsp;&nbsp;&nbsp;&nbsp;&nbsp;&nbsp; Tijd: 10:30 - 12:00, inloop vanaf 10:15 (i.v.m. instrumentenopbouw)</p>
<p>•&nbsp;&nbsp;&nbsp;&nbsp;&nbsp;&nbsp;&nbsp;&nbsp;&nbsp;&nbsp;&nbsp;&nbsp; Locatie: Vituskerk Tersoal, Koumelkerspaed 1a</p>
<p>•&nbsp;&nbsp;&nbsp;&nbsp;&nbsp;&nbsp;&nbsp;&nbsp;&nbsp;&nbsp;&nbsp;&nbsp; Bijdrage: € 22,00 (inclusief thee en iets lekkers)</p>
<p>Er zijn 3 plekken beschikbaar voor mensen met een kleinere portemonnee, van € 14,50.</p>
DESCRIPTION:<a href='/agenda/2026/5/2/helende-soundbath-in-tersoal-door-nienke-de-heer-130935'>/agenda/2026/5/2/helende-soundbath-in-tersoal-door-nienke-de-heer-130935</a> || <p><strong>Sprankelen<br /></strong>In deze sessie gaan we via klank naar binnen om de inspiratie die de lente ons brengt, naar buiten te brengen en de ruimte te geven om te kunnen bloeien.<br /><br />Op zaterdag 2 mei kan je genieten van een Soundbath, geleid door Nienke, een professionele zangeres en ervaren klankbegeleidster met een diepe verbondenheid met muziek en harmonie.</p>
<p>Met liefdevolle intenties, klankschalen en diverse instrumenten creëert Nienke een cocon van geluid die je uitnodigt om volledig te ontspannen.<br />Alles even loslaten en jezelf overgeven aan de rustgevende harmonieën.</p>
<p>In een veilige omgeving kan je niet alleen de kalmte ervaren, maar ook de diepte van je emoties en herinneringen.<br />Klanken kunnen een krachtige spiegel zijn, die ons inzicht geven in verborgen schaduwen en patronen.<br />Misschien ontdek je delen van jezelf die om aandacht vragen; de klank zal je ondersteunen bij het verkennen van deze innerlijke reis.<br />Dit kan variëren van vreugdevolle herinneringen tot de confrontatie met datgene wat je wellicht bent vergeten.<br />Tijdens de klankreis ontdek je misschien dat je meer kunt loslaten dan alleen spierspanning, en dat kan een bevrijdend effect hebben.</p>
<p>Ik heb jarenlang ervaring in het begeleiden van klankreizen, zowel individueel als in groepsverband.<br />Muziek is voor mij niet zomaar een passie; het is een levenslange reis waarbij ik altijd op zoek ben gegaan naar harmonie in geluid.<br />Na een conservatoriumstudie heb ik mijn focus verlegd naar klankbeleving, waarbij ik de kennis en intuïtie combineer om een veilige ruimte te creëren voor ontspanning, loslaten en persoonlijke groei.</p>
<p>Ik nodig je van harte uit om deze warme en waardevolle ervaring bij te wonen.<br />Neem eventueel je eigen mat, dekentje en kussen mee, en kom met een open hart en geest.</p>
<p>Het enige wat je hoeft te doen is te liggen en te ontvangen.<br />We sluiten de klankreis af met heerlijke thee en iets lekkers.<br />Ontvang daarnaast een persoonlijke boodschap uit een bijzonder kaartendeck—een inspirerende aanvulling op je ervaring, speciaal voor jou.</p>
<p>Meld je aan via Hipsy, mail@nienke.info of 06-14664116.<br />Ik kijk ernaar uit om samen met jou te genieten van de helende kracht van klank!</p>
<p>&nbsp;Met liefdevolle groet,<br />Nienke</p>
<p>Details van de Soundbath:</p>
<p>•&nbsp;&nbsp;&nbsp;&nbsp;&nbsp;&nbsp;&nbsp;&nbsp;&nbsp;&nbsp;&nbsp;&nbsp; Datum: Zaterdag 2 mei 2026</p>
<p>•&nbsp;&nbsp;&nbsp;&nbsp;&nbsp;&nbsp;&nbsp;&nbsp;&nbsp;&nbsp;&nbsp;&nbsp; Tijd: 10:30 - 12:00, inloop vanaf 10:15 (i.v.m. instrumentenopbouw)</p>
<p>•&nbsp;&nbsp;&nbsp;&nbsp;&nbsp;&nbsp;&nbsp;&nbsp;&nbsp;&nbsp;&nbsp;&nbsp; Locatie: Vituskerk Tersoal, Koumelkerspaed 1a</p>
<p>•&nbsp;&nbsp;&nbsp;&nbsp;&nbsp;&nbsp;&nbsp;&nbsp;&nbsp;&nbsp;&nbsp;&nbsp; Bijdrage: € 22,00 (inclusief thee en iets lekkers)</p>
<p>Er zijn 3 plekken beschikbaar voor mensen met een kleinere portemonnee, van € 14,50.</p>
LAST-MODIFIED:20260424T114007Z
LOCATION: Vituskerk in Tersoal | Koumelkerspaed 1A Tersoal
SEQUENCE:0
STATUS:CONFIRMED
SUMMARY:Helende Soundbath in Tersoal, door Nienke de Heer
TRANSP:OPAQUE
END:VEVENT
END:VCALENDAR
