BEGIN:VCALENDAR
PRODID:-//PUBBLE//agenda//NL
VERSION:2.0
METHOD:PUBLISH
BEGIN:VEVENT
DTSTART:20260725T200000Z
DTEND:20260725T210000Z
DTSTAMP:20260422T133850Z
UID:982746da-7d6b-4570-8ee7-60400cd895df
CREATED:20260422T133850Z
NAME:150 jaar Mata Hari - 058 Jazz: De Zelle Sessies | muziek | Leeuwarder terrassen oudega-swf.nl
X-WR-CALNAME:150 jaar Mata Hari - 058 Jazz: De Zelle Sessies | muziek | Leeuwarder terrassen
X-ALT-DESC;FMTTYPE=text/html:<a href='/agenda/2026/7/25/150-jaar-mata-hari-058-jazz-de-zelle-sessies-muziek-leeuwarder-terrassen-130946'>/agenda/2026/7/25/150-jaar-mata-hari-058-jazz-de-zelle-sessies-muziek-leeuwarder-terrassen-130946</a> || <p><strong><em>Dit evenement is onderdeel van </em>150 jaar Mata Hari<em>. Dit jubileumjaar vieren we in Leeuwarden met kunst, dans, theater, feestjes, exposities, tours en nog veel meer. Het programma loopt van 23 mei tot en met 7 augustus (Mata Hari’s verjaardag) en is&nbsp;<a href="https://www.visitleeuwarden.com/nl/150jaarmatahari" target="_blank">hier</a>&nbsp;te vinden.</em></strong></p>
<p>Zodra de eerste noten door de straten zweven, verandert het centrum van Leeuwarden in een levendig eerbetoon aan de muzikale hoogtijdagen van de vroege twintigste eeuw. De Zelle Sessies halen de authentieke sound van weleer naar het nu en verspreiden de tijdloze sfeer van nostalgische jazz over de gehele binnenstad. Het publiek kan zich volledig onderdompelen in deze klassieke klanken, waarbij de ritmes van vroeger naadloos samensmelten met de hedendaagse dynamiek van de Friese hoofdstad.</p>
<p>Dit bijzondere spektakel strijkt neer op zes verschillende terrassen, waardoor er een muzikale route ontstaat die de stad in een warm bad van improvisatie plaatst. Omdat het evenement voor iedereen gratis toegankelijk is, nodigt het uit om ongedwongen aan te schuiven en te genieten van de vakmanschap van de muzikanten.</p>
<p>Hoewel de specifieke plekken nog even een verrassing blijven, is één ding zeker: de jazz zal overal voelbaar zijn. Houd voor het programma deze pagina in de gaten.</p>
DESCRIPTION:<a href='/agenda/2026/7/25/150-jaar-mata-hari-058-jazz-de-zelle-sessies-muziek-leeuwarder-terrassen-130946'>/agenda/2026/7/25/150-jaar-mata-hari-058-jazz-de-zelle-sessies-muziek-leeuwarder-terrassen-130946</a> || <p><strong><em>Dit evenement is onderdeel van </em>150 jaar Mata Hari<em>. Dit jubileumjaar vieren we in Leeuwarden met kunst, dans, theater, feestjes, exposities, tours en nog veel meer. Het programma loopt van 23 mei tot en met 7 augustus (Mata Hari’s verjaardag) en is&nbsp;<a href="https://www.visitleeuwarden.com/nl/150jaarmatahari" target="_blank">hier</a>&nbsp;te vinden.</em></strong></p>
<p>Zodra de eerste noten door de straten zweven, verandert het centrum van Leeuwarden in een levendig eerbetoon aan de muzikale hoogtijdagen van de vroege twintigste eeuw. De Zelle Sessies halen de authentieke sound van weleer naar het nu en verspreiden de tijdloze sfeer van nostalgische jazz over de gehele binnenstad. Het publiek kan zich volledig onderdompelen in deze klassieke klanken, waarbij de ritmes van vroeger naadloos samensmelten met de hedendaagse dynamiek van de Friese hoofdstad.</p>
<p>Dit bijzondere spektakel strijkt neer op zes verschillende terrassen, waardoor er een muzikale route ontstaat die de stad in een warm bad van improvisatie plaatst. Omdat het evenement voor iedereen gratis toegankelijk is, nodigt het uit om ongedwongen aan te schuiven en te genieten van de vakmanschap van de muzikanten.</p>
<p>Hoewel de specifieke plekken nog even een verrassing blijven, is één ding zeker: de jazz zal overal voelbaar zijn. Houd voor het programma deze pagina in de gaten.</p>
LAST-MODIFIED:20260422T133850Z
LOCATION: Leeuwarderterrassen | Binnenstad Leeuwarden  Leeuwarden
SEQUENCE:0
STATUS:CONFIRMED
SUMMARY:150 jaar Mata Hari - 058 Jazz: De Zelle Sessies | muziek | Leeuwarder terrassen
TRANSP:OPAQUE
END:VEVENT
END:VCALENDAR
