BEGIN:VCALENDAR
PRODID:-//PUBBLE//agenda//NL
VERSION:2.0
METHOD:PUBLISH
BEGIN:VEVENT
DTSTART:20260523T130000Z
DTEND:20260523T170000Z
DTSTAMP:20260422T133358Z
UID:e1c82c14-418f-4ffd-a9a7-361c81222557
CREATED:20260422T133358Z
NAME:150 jaar Mata Hari - Mata Hari doeblad | kids | dbieb oudega-swf.nl
X-WR-CALNAME:150 jaar Mata Hari - Mata Hari doeblad | kids | dbieb
X-ALT-DESC;FMTTYPE=text/html:<a href='/agenda/2026/5/23/150-jaar-mata-hari-mata-hari-doeblad-kids-dbieb-130948'>/agenda/2026/5/23/150-jaar-mata-hari-mata-hari-doeblad-kids-dbieb-130948</a> || <p><strong><em>Dit evenement is onderdeel van </em>150 jaar Mata Hari<em>. Dit jubileumjaar vieren we in Leeuwarden met kunst, dans, theater, feestjes, exposities, tours en nog veel meer. Het programma loopt van 23 mei tot en met 7 augustus (Mata Hari’s verjaardag) en is&nbsp;<a href="https://www.visitleeuwarden.com/nl/150jaarmatahari" target="_blank">hier</a>&nbsp;te vinden.</em></strong></p>
<p>Speciaal voor de jongste speurneuzen heeft dbieb een verrassing in petto: het officiële Mata Hari doeblad! Kinderen kunnen dit blad gratis ophalen in de bibliotheek en direct aan de slag gaan met de leukste opdrachten. Al puzzelend en ontdekkend leren ze alles over het bijzondere leven van de beroemde Leeuwarderse danseres en spionne. Het is de perfecte manier om op een speelse wijze in de geschiedenis te duiken. Kom dus snel langs bij dbieb, pak een exemplaar en laat de ontdekkingsreis beginnen!</p>
DESCRIPTION:<a href='/agenda/2026/5/23/150-jaar-mata-hari-mata-hari-doeblad-kids-dbieb-130948'>/agenda/2026/5/23/150-jaar-mata-hari-mata-hari-doeblad-kids-dbieb-130948</a> || <p><strong><em>Dit evenement is onderdeel van </em>150 jaar Mata Hari<em>. Dit jubileumjaar vieren we in Leeuwarden met kunst, dans, theater, feestjes, exposities, tours en nog veel meer. Het programma loopt van 23 mei tot en met 7 augustus (Mata Hari’s verjaardag) en is&nbsp;<a href="https://www.visitleeuwarden.com/nl/150jaarmatahari" target="_blank">hier</a>&nbsp;te vinden.</em></strong></p>
<p>Speciaal voor de jongste speurneuzen heeft dbieb een verrassing in petto: het officiële Mata Hari doeblad! Kinderen kunnen dit blad gratis ophalen in de bibliotheek en direct aan de slag gaan met de leukste opdrachten. Al puzzelend en ontdekkend leren ze alles over het bijzondere leven van de beroemde Leeuwarderse danseres en spionne. Het is de perfecte manier om op een speelse wijze in de geschiedenis te duiken. Kom dus snel langs bij dbieb, pak een exemplaar en laat de ontdekkingsreis beginnen!</p>
LAST-MODIFIED:20260422T133358Z
LOCATION: Onbekend | Blokhuisplein 40 Leeuwarden
SEQUENCE:0
STATUS:CONFIRMED
SUMMARY:150 jaar Mata Hari - Mata Hari doeblad | kids | dbieb
TRANSP:OPAQUE
END:VEVENT
END:VCALENDAR
