BEGIN:VCALENDAR
PRODID:-//PUBBLE//agenda//NL
VERSION:2.0
METHOD:PUBLISH
BEGIN:VEVENT
DTSTART:20260529T203000Z
DTEND:20260529T000000Z
DTSTAMP:20260422T134137Z
UID:c0628a99-2bb7-4d23-a684-e9fe883b8e28
CREATED:20260422T134137Z
NAME:150 jaar Mata Hari - Over Vrouwen Met Nynke De Jong oudega-swf.nl
X-WR-CALNAME:150 jaar Mata Hari - Over Vrouwen Met Nynke De Jong
X-ALT-DESC;FMTTYPE=text/html:<a href='/agenda/2026/5/29/150-jaar-mata-hari-over-vrouwen-met-nynke-de-jong-130953'>/agenda/2026/5/29/150-jaar-mata-hari-over-vrouwen-met-nynke-de-jong-130953</a> || <p><strong><em>Dit evenement is onderdeel van 150 jaar Mata Hari. Dit jubileumjaar vieren we in Leeuwarden met kunst, dans, theater, feestjes, exposities, tours en nog veel meer. Het programma loopt van 23 mei tot en met 7 augustus (Mata Hari’s verjaardag) en is&nbsp;<a href="https://www.visitleeuwarden.com/nl/150jaarmatahari" target="_blank">hier</a>&nbsp;te vinden.</em></strong></p>
<p><strong>OVER VROUWEN – met vrouwen (v/x/m)</strong><br>Tijdens&nbsp;<em>OVER VROUWEN, met vrouwen (v/x/m)&nbsp;</em>maak je kennis met feminisme in al haar vormen en maten. Op deze terugkerende avonden leer je steeds een nieuw perspectief op feminisme kennen. De ene keer nodigen we een wetenschapper uit, dan een schrijver, een verpleegkundige of een maatschappelijk werker. We stellen je voor aan de Dolle Mina’s (van toen én nu), en geven je handvatten om zelf direct in actie te komen. Met de vuist omhoog, maar ook met de ellebogen in elkaar gehaakt.&nbsp;</p>
<p>Tijdens de editie op 29 mei komt schrijfster, podcastmaakster en presentatrice Nynke de Jong langs voor een lezing over Mata Hari. Want wie spreekt er beter over een iconische Friese vrouw dan een iconische Friese vrouw?</p>
<p><strong>Diner in het café<br></strong>Ook deze vrijdag kun je vanaf 18.00 uur in Podium Explore terecht voor een 3-gangen diner voor €25,-. Reserveren kan door een mailtje te sturen naar <a href="mailto:horeca@explore-the-north.nl">horeca@explore-the-north.nl</a>.</p>
DESCRIPTION:<a href='/agenda/2026/5/29/150-jaar-mata-hari-over-vrouwen-met-nynke-de-jong-130953'>/agenda/2026/5/29/150-jaar-mata-hari-over-vrouwen-met-nynke-de-jong-130953</a> || <p><strong><em>Dit evenement is onderdeel van 150 jaar Mata Hari. Dit jubileumjaar vieren we in Leeuwarden met kunst, dans, theater, feestjes, exposities, tours en nog veel meer. Het programma loopt van 23 mei tot en met 7 augustus (Mata Hari’s verjaardag) en is&nbsp;<a href="https://www.visitleeuwarden.com/nl/150jaarmatahari" target="_blank">hier</a>&nbsp;te vinden.</em></strong></p>
<p><strong>OVER VROUWEN – met vrouwen (v/x/m)</strong><br>Tijdens&nbsp;<em>OVER VROUWEN, met vrouwen (v/x/m)&nbsp;</em>maak je kennis met feminisme in al haar vormen en maten. Op deze terugkerende avonden leer je steeds een nieuw perspectief op feminisme kennen. De ene keer nodigen we een wetenschapper uit, dan een schrijver, een verpleegkundige of een maatschappelijk werker. We stellen je voor aan de Dolle Mina’s (van toen én nu), en geven je handvatten om zelf direct in actie te komen. Met de vuist omhoog, maar ook met de ellebogen in elkaar gehaakt.&nbsp;</p>
<p>Tijdens de editie op 29 mei komt schrijfster, podcastmaakster en presentatrice Nynke de Jong langs voor een lezing over Mata Hari. Want wie spreekt er beter over een iconische Friese vrouw dan een iconische Friese vrouw?</p>
<p><strong>Diner in het café<br></strong>Ook deze vrijdag kun je vanaf 18.00 uur in Podium Explore terecht voor een 3-gangen diner voor €25,-. Reserveren kan door een mailtje te sturen naar <a href="mailto:horeca@explore-the-north.nl">horeca@explore-the-north.nl</a>.</p>
LAST-MODIFIED:20260422T134137Z
LOCATION: Onbekend | Bagijnestraat 59 Leeuwarden
SEQUENCE:0
STATUS:CONFIRMED
SUMMARY:150 jaar Mata Hari - Over Vrouwen Met Nynke De Jong
TRANSP:OPAQUE
END:VEVENT
END:VCALENDAR
