BEGIN:VCALENDAR
PRODID:-//PUBBLE//agenda//NL
VERSION:2.0
METHOD:PUBLISH
BEGIN:VEVENT
DTSTART:20260626T193000Z
DTEND:20260626T210000Z
DTSTAMP:20260422T115036Z
UID:91cc68cf-bc37-45c8-88cc-c45423329cb0
CREATED:20260422T115036Z
NAME:150 jaar Mata Hari - Twerkshop | dans | Podium Explore oudega-swf.nl
X-WR-CALNAME:150 jaar Mata Hari - Twerkshop | dans | Podium Explore
X-ALT-DESC;FMTTYPE=text/html:<a href='/agenda/2026/6/26/150-jaar-mata-hari-twerkshop-dans-podium-explore-130961'>/agenda/2026/6/26/150-jaar-mata-hari-twerkshop-dans-podium-explore-130961</a> || <p><strong><em>Dit evenement is onderdeel van </em>150 jaar Mata Hari<em>. Dit jubileumjaar vieren we in Leeuwarden met kunst, dans, theater, feestjes, exposities, tours en nog veel meer. Het programma loopt van 23 mei tot en met 7 augustus (Mata Hari’s verjaardag) en is&nbsp;<a href="https://www.visitleeuwarden.com/nl/150jaarmatahari" target="_blank">hier</a>&nbsp;te vinden.</em></strong></p>
<p>Mata Hari stond bekend om haar gedurfde bewegingen, haar grenzeloze zelfvertrouwen en het feit dat ze de wereld aan haar voeten kreeg door simpelweg zichzelf te zijn. In het kader van <em>150 jaar Mata Hari </em>brengen we die legendarische vrouwelijke kracht naar het nu, met een dansstijl waarvan menig commandant nu het schaamrood nog van op z’n kaken krijgt.</p>
<p>Twerken is meer dan alleen een dansstijl; het is een ode aan je lichaam, een boost voor je zelfvertrouwen en het is bovenal ontzettend leuk. Esmee Twerkalicious leert je de fijne kneepjes van de <em>bounce</em> en de <em>shake</em>, waarbij plezier en empowerment centraal staan. Iedereen is welkom om de innerlijke verleidster of verleider los te laten.</p>
<p><strong>Diner in het café</strong><br>Kom voorafgaand aan de twerkshop gezellig van te voren dineren in het café (100% vegetarisch) van Podium Explore of geniet van het zelfgemaakte lekkers bij de bar als brandstof voor de avond. Reserveren kan via <a href="mailto:Horeca@explore-the-north.nl">horeca@explore-the-north.nl</a>.</p>
DESCRIPTION:<a href='/agenda/2026/6/26/150-jaar-mata-hari-twerkshop-dans-podium-explore-130961'>/agenda/2026/6/26/150-jaar-mata-hari-twerkshop-dans-podium-explore-130961</a> || <p><strong><em>Dit evenement is onderdeel van </em>150 jaar Mata Hari<em>. Dit jubileumjaar vieren we in Leeuwarden met kunst, dans, theater, feestjes, exposities, tours en nog veel meer. Het programma loopt van 23 mei tot en met 7 augustus (Mata Hari’s verjaardag) en is&nbsp;<a href="https://www.visitleeuwarden.com/nl/150jaarmatahari" target="_blank">hier</a>&nbsp;te vinden.</em></strong></p>
<p>Mata Hari stond bekend om haar gedurfde bewegingen, haar grenzeloze zelfvertrouwen en het feit dat ze de wereld aan haar voeten kreeg door simpelweg zichzelf te zijn. In het kader van <em>150 jaar Mata Hari </em>brengen we die legendarische vrouwelijke kracht naar het nu, met een dansstijl waarvan menig commandant nu het schaamrood nog van op z’n kaken krijgt.</p>
<p>Twerken is meer dan alleen een dansstijl; het is een ode aan je lichaam, een boost voor je zelfvertrouwen en het is bovenal ontzettend leuk. Esmee Twerkalicious leert je de fijne kneepjes van de <em>bounce</em> en de <em>shake</em>, waarbij plezier en empowerment centraal staan. Iedereen is welkom om de innerlijke verleidster of verleider los te laten.</p>
<p><strong>Diner in het café</strong><br>Kom voorafgaand aan de twerkshop gezellig van te voren dineren in het café (100% vegetarisch) van Podium Explore of geniet van het zelfgemaakte lekkers bij de bar als brandstof voor de avond. Reserveren kan via <a href="mailto:Horeca@explore-the-north.nl">horeca@explore-the-north.nl</a>.</p>
LAST-MODIFIED:20260422T115036Z
LOCATION: Onbekend | Bagijnestraat 59 Leeuwarden
SEQUENCE:0
STATUS:CONFIRMED
SUMMARY:150 jaar Mata Hari - Twerkshop | dans | Podium Explore
TRANSP:OPAQUE
END:VEVENT
END:VCALENDAR
