BEGIN:VCALENDAR
PRODID:-//PUBBLE//agenda//NL
VERSION:2.0
METHOD:PUBLISH
BEGIN:VEVENT
DTSTART:20260423T165922Z
DTEND:20260423T175922Z
DTSTAMP:20260424T155915Z
UID:3fb0e732-9fd2-40a9-9c8a-ee7a1628b806
CREATED:20260424T155915Z
NAME:Shantyfestival zaterdag in Bakhuizen oudega-swf.nl
X-WR-CALNAME:Shantyfestival zaterdag in Bakhuizen
X-ALT-DESC;FMTTYPE=text/html:<a href='/agenda/2026/4/26/shantyfestival-zaterdag-in-bakhuizen-131089'>/agenda/2026/4/26/shantyfestival-zaterdag-in-bakhuizen-131089</a> || <p><strong>BAKHUIZEN - Morgen, zaterdag 26 april, organiseert MFC Gearte in Bakhuizen een sfeervol Shantyfestival. Van 15.30 tot 20.30 uur zullen verschillende kooroptredens plaatsvinden, waarbij de volgende koren het podium delen:</strong></p><p>Shantykoor De Headammers uit Sint Nicolaasga <br>Zeemanskoor Aukes Wybesz uit Hindeloopen <br>Shantykoor De Bakhusterheech Sjongers</p><p data-is-last-node="">Dit festival biedt een heerlijke gelegenheid om in de stemming te komen voor Koningsdag, met een gevarieerd programma voor jong en oud. De toegang is gratis, dus kom gezellig langs en geniet van de zeemansliederen!</p>
DESCRIPTION:<a href='/agenda/2026/4/26/shantyfestival-zaterdag-in-bakhuizen-131089'>/agenda/2026/4/26/shantyfestival-zaterdag-in-bakhuizen-131089</a> || <p><strong>BAKHUIZEN - Morgen, zaterdag 26 april, organiseert MFC Gearte in Bakhuizen een sfeervol Shantyfestival. Van 15.30 tot 20.30 uur zullen verschillende kooroptredens plaatsvinden, waarbij de volgende koren het podium delen:</strong></p><p>Shantykoor De Headammers uit Sint Nicolaasga <br>Zeemanskoor Aukes Wybesz uit Hindeloopen <br>Shantykoor De Bakhusterheech Sjongers</p><p data-is-last-node="">Dit festival biedt een heerlijke gelegenheid om in de stemming te komen voor Koningsdag, met een gevarieerd programma voor jong en oud. De toegang is gratis, dus kom gezellig langs en geniet van de zeemansliederen!</p>
LAST-MODIFIED:20260424T155915Z
LOCATION: M.F.C de Gearte | St. Odulphusstraat 69 Bakhuizen
SEQUENCE:0
STATUS:CONFIRMED
SUMMARY:Shantyfestival zaterdag in Bakhuizen
TRANSP:OPAQUE
END:VEVENT
END:VCALENDAR
