BEGIN:VCALENDAR
PRODID:-//PUBBLE//agenda//NL
VERSION:2.0
METHOD:PUBLISH
BEGIN:VEVENT
DTSTART:20260423T174423Z
DTEND:20260423T184423Z
DTSTAMP:20260424T114258Z
UID:bcb517f9-e0ad-4385-b2bd-b01a5c49ea70
CREATED:20260424T114258Z
NAME:Modeltreinbeurs in Joure: Laatste beurs voor de zomervakantie oudega-swf.nl
X-WR-CALNAME:Modeltreinbeurs in Joure: Laatste beurs voor de zomervakantie
X-ALT-DESC;FMTTYPE=text/html:<a href='/agenda/2026/5/2/modeltreinbeurs-in-joure-laatste-beurs-voor-de-zomervakantie-131106'>/agenda/2026/5/2/modeltreinbeurs-in-joure-laatste-beurs-voor-de-zomervakantie-131106</a> || <p><strong>JOURE - Op zaterdag 2 mei aanstaande vindt de laatste modeltreinbeurs voor de zomervakantie plaats in ‘t Haske, Vegelinsweg 20 in Joure. Deze beurs is altijd een populaire bestemming voor modeltreinliefhebbers, en dit jaar is de belangstelling weer groot. De beurs trekt deelnemers uit het hele land, van regio’s als Den Haag, Hoorn, Alkmaar en Dodewaard, en biedt een landelijke uitstraling.</strong></p><p>De beurs biedt een breed aanbod aan gebruikte treinen, spoorse benodigdheden en literatuur. Het is de perfecte plek voor liefhebbers om bij te praten over hun oude hobby, die van de klassieke opwindtreinen is geëvolueerd naar moderne digitale systemen. Bezoekers kunnen hun oude treinen laten taxeren, repareren of verkopen. Wat voor de één niet meer van nut is, kan voor een ander juist weer van waarde zijn.</p><h2><strong>Aanbod</strong></h2><p>Op de beurs zijn er (gebruikte) treinmodellen, railmateriaal, toebehoren en literatuur van diverse merken te vinden. Hobbyisten met specifieke vragen over hun modelspoor kunnen ter plekke antwoorden krijgen en hun kennis delen met andere liefhebbers.</p><h2><strong>Praktische informatie:</strong></h2><p><strong>Tijd</strong>: 09:45 – 14:15 uur <br><strong>Toegangsprijs</strong>: Volwassenen: €3,50 Kinderen: €1,50</p>
DESCRIPTION:<a href='/agenda/2026/5/2/modeltreinbeurs-in-joure-laatste-beurs-voor-de-zomervakantie-131106'>/agenda/2026/5/2/modeltreinbeurs-in-joure-laatste-beurs-voor-de-zomervakantie-131106</a> || <p><strong>JOURE - Op zaterdag 2 mei aanstaande vindt de laatste modeltreinbeurs voor de zomervakantie plaats in ‘t Haske, Vegelinsweg 20 in Joure. Deze beurs is altijd een populaire bestemming voor modeltreinliefhebbers, en dit jaar is de belangstelling weer groot. De beurs trekt deelnemers uit het hele land, van regio’s als Den Haag, Hoorn, Alkmaar en Dodewaard, en biedt een landelijke uitstraling.</strong></p><p>De beurs biedt een breed aanbod aan gebruikte treinen, spoorse benodigdheden en literatuur. Het is de perfecte plek voor liefhebbers om bij te praten over hun oude hobby, die van de klassieke opwindtreinen is geëvolueerd naar moderne digitale systemen. Bezoekers kunnen hun oude treinen laten taxeren, repareren of verkopen. Wat voor de één niet meer van nut is, kan voor een ander juist weer van waarde zijn.</p><h2><strong>Aanbod</strong></h2><p>Op de beurs zijn er (gebruikte) treinmodellen, railmateriaal, toebehoren en literatuur van diverse merken te vinden. Hobbyisten met specifieke vragen over hun modelspoor kunnen ter plekke antwoorden krijgen en hun kennis delen met andere liefhebbers.</p><h2><strong>Praktische informatie:</strong></h2><p><strong>Tijd</strong>: 09:45 – 14:15 uur <br><strong>Toegangsprijs</strong>: Volwassenen: €3,50 Kinderen: €1,50</p>
LAST-MODIFIED:20260424T114258Z
LOCATION: Party- en Zalencentrum 't Haske | Vegelinsweg 20 JOURE
SEQUENCE:0
STATUS:CONFIRMED
SUMMARY:Modeltreinbeurs in Joure: Laatste beurs voor de zomervakantie
TRANSP:OPAQUE
END:VEVENT
END:VCALENDAR
