BEGIN:VCALENDAR
PRODID:-//PUBBLE//agenda//NL
VERSION:2.0
METHOD:PUBLISH
BEGIN:VEVENT
DTSTART:20260502T094500Z
DTEND:20260502T141500Z
DTSTAMP:20260424T113412Z
UID:e30c8336-cddb-47cb-b90b-caf8b44c3817
CREATED:20260424T113412Z
NAME:Modeltreinbeurs Joure oudega-swf.nl
X-WR-CALNAME:Modeltreinbeurs Joure
X-ALT-DESC;FMTTYPE=text/html:<a href='/agenda/2026/5/2/modeltreinbeurs-joure-131123'>/agenda/2026/5/2/modeltreinbeurs-joure-131123</a> || <p>Zin om even helemaal op te gaan in de wereld van modeltreinen? Kom dan naar deze gezellige modeltreinenbeurs, de laatste voor de zomervakantie. Deelnemers uit het hele land komen hier samen, van de regio tot plaatsen als Den Haag Hoorn Alkmaar en Dodewaard.</p>
<p>Struin langs de kramen met gebruikte treinmodellen railmateriaal en toebehoren. Je vindt er van alles, van oudere modellen tot modern digitaal materiaal. Of je nu gericht iets zoekt of gewoon wilt rondkijken, er is genoeg te ontdekken.</p>
<p>De beurs is ook een fijne plek om andere liefhebbers te ontmoeten. Stel je vragen, wissel ervaringen uit en laat je inspireren. Heb je zelf nog oude treinen liggen? Neem ze mee voor taxatie reparatie of verkoop. Misschien maak je er iemand anders blij mee.</p>
<p>De zaal is open van 09:45 tot 14:15 uur. De entree bedraagt € 3,50 voor volwassenen en € 1,50 voor kinderen. Iedereen met interesse in modelspoor is welkom.</p>
DESCRIPTION:<a href='/agenda/2026/5/2/modeltreinbeurs-joure-131123'>/agenda/2026/5/2/modeltreinbeurs-joure-131123</a> || <p>Zin om even helemaal op te gaan in de wereld van modeltreinen? Kom dan naar deze gezellige modeltreinenbeurs, de laatste voor de zomervakantie. Deelnemers uit het hele land komen hier samen, van de regio tot plaatsen als Den Haag Hoorn Alkmaar en Dodewaard.</p>
<p>Struin langs de kramen met gebruikte treinmodellen railmateriaal en toebehoren. Je vindt er van alles, van oudere modellen tot modern digitaal materiaal. Of je nu gericht iets zoekt of gewoon wilt rondkijken, er is genoeg te ontdekken.</p>
<p>De beurs is ook een fijne plek om andere liefhebbers te ontmoeten. Stel je vragen, wissel ervaringen uit en laat je inspireren. Heb je zelf nog oude treinen liggen? Neem ze mee voor taxatie reparatie of verkoop. Misschien maak je er iemand anders blij mee.</p>
<p>De zaal is open van 09:45 tot 14:15 uur. De entree bedraagt € 3,50 voor volwassenen en € 1,50 voor kinderen. Iedereen met interesse in modelspoor is welkom.</p>
LAST-MODIFIED:20260424T113412Z
LOCATION: 't Haske | Vegelinsweg 20 Joure
SEQUENCE:0
STATUS:CONFIRMED
SUMMARY:Modeltreinbeurs Joure
TRANSP:OPAQUE
END:VEVENT
END:VCALENDAR
