BEGIN:VCALENDAR
PRODID:-//PUBBLE//agenda//NL
VERSION:2.0
METHOD:PUBLISH
BEGIN:VEVENT
DTSTART:20260426T140000Z
DTEND:20260426T153000Z
DTSTAMP:20260424T153910Z
UID:1c884d62-1e8b-4ccc-bf6b-571880e87727
CREATED:20260424T153910Z
NAME:Elfstegentocht oudega-swf.nl
X-WR-CALNAME:Elfstegentocht
X-ALT-DESC;FMTTYPE=text/html:<a href='/agenda/2026/4/26/elfstegentocht-131137'>/agenda/2026/4/26/elfstegentocht-131137</a> || <p>In 1870 telde de Leeuwarder binnenstad wel 66 stegen die minder dan drie meter breed waren. Vijftig van die stegen waren zelfs smaller dan anderhalve meter. De totale lengte van deze stegen bedroeg meer dan twee kilometer. Vaak staan we er niet bij stil dat de oudste stegen in Leeuwarden dateren uit de late middeleeuwen.</p>
DESCRIPTION:<a href='/agenda/2026/4/26/elfstegentocht-131137'>/agenda/2026/4/26/elfstegentocht-131137</a> || <p>In 1870 telde de Leeuwarder binnenstad wel 66 stegen die minder dan drie meter breed waren. Vijftig van die stegen waren zelfs smaller dan anderhalve meter. De totale lengte van deze stegen bedroeg meer dan twee kilometer. Vaak staan we er niet bij stil dat de oudste stegen in Leeuwarden dateren uit de late middeleeuwen.</p>
LAST-MODIFIED:20260424T153910Z
LOCATION: Onbekend | Groeneweg 1 Leeuwarden
SEQUENCE:0
STATUS:CONFIRMED
SUMMARY:Elfstegentocht
TRANSP:OPAQUE
END:VEVENT
END:VCALENDAR
