BEGIN:VCALENDAR
PRODID:-//PUBBLE//agenda//NL
VERSION:2.0
METHOD:PUBLISH
BEGIN:VEVENT
DTSTART:20260503T120000Z
DTEND:20260503T180000Z
DTSTAMP:20260424T114257Z
UID:2f9de190-24f1-4205-8f1f-59a46d206438
CREATED:20260424T114257Z
NAME:Huldiging SC Cambuur oudega-swf.nl
X-WR-CALNAME:Huldiging SC Cambuur
X-ALT-DESC;FMTTYPE=text/html:<a href='/agenda/2026/5/3/huldiging-sc-cambuur-131146'>/agenda/2026/5/3/huldiging-sc-cambuur-131146</a> || <p>Missie Oldehove is geslaagd: SC Cambuur keert terug in de Eredivisie en dat moet groots worden gevierd! Daarom worden de spelers en staf op <strong>zondag 3 mei</strong>&nbsp;gehuldigd bij de Oldehove. De huldiging wordt aangeboden door de gemeente Leeuwarden.</p>
<p>Het Oldehoofsterkerkhof gaat op de dag van de huldiging om 12.00 uur open. Kom vooral op tijd, want&nbsp;<strong>vol is vol</strong>. Gezien de beperkte capaciteit op het plein wordt er een bustour georganiseerd waarbij de spelers en staf vanaf 14.45 uur in een langzaam rijdende open bus van het Kooi Stadion naar het Oldehoofsterkerkhof rijden.</p>
<p>De route loopt vanaf het stadion via Stadionplein, Heliconweg, Tesselschadestraat, Lange Marktstraat, Prins Hendrikstraat, Ruiterskwartier en Groot Schavernek naar het Oldehoofsterkerkhof. Sta je langs de route om de spelers en staf toe te juichen, houd er dan rekening mee dat het Oldehoofsterkerkhof daarna vol en dus niet meer toegankelijk is.</p>
<p>Het muzikale voorprogramma bij de Oldehove gaat om 13.00 uur van start en de officiële huldiging van de selectie zal rond 16.00 uur plaatsvinden. Om 18.00 uur eindigt het programma en gaat het Oldehoofsterkerkhof dicht.</p>
DESCRIPTION:<a href='/agenda/2026/5/3/huldiging-sc-cambuur-131146'>/agenda/2026/5/3/huldiging-sc-cambuur-131146</a> || <p>Missie Oldehove is geslaagd: SC Cambuur keert terug in de Eredivisie en dat moet groots worden gevierd! Daarom worden de spelers en staf op <strong>zondag 3 mei</strong>&nbsp;gehuldigd bij de Oldehove. De huldiging wordt aangeboden door de gemeente Leeuwarden.</p>
<p>Het Oldehoofsterkerkhof gaat op de dag van de huldiging om 12.00 uur open. Kom vooral op tijd, want&nbsp;<strong>vol is vol</strong>. Gezien de beperkte capaciteit op het plein wordt er een bustour georganiseerd waarbij de spelers en staf vanaf 14.45 uur in een langzaam rijdende open bus van het Kooi Stadion naar het Oldehoofsterkerkhof rijden.</p>
<p>De route loopt vanaf het stadion via Stadionplein, Heliconweg, Tesselschadestraat, Lange Marktstraat, Prins Hendrikstraat, Ruiterskwartier en Groot Schavernek naar het Oldehoofsterkerkhof. Sta je langs de route om de spelers en staf toe te juichen, houd er dan rekening mee dat het Oldehoofsterkerkhof daarna vol en dus niet meer toegankelijk is.</p>
<p>Het muzikale voorprogramma bij de Oldehove gaat om 13.00 uur van start en de officiële huldiging van de selectie zal rond 16.00 uur plaatsvinden. Om 18.00 uur eindigt het programma en gaat het Oldehoofsterkerkhof dicht.</p>
LAST-MODIFIED:20260424T114257Z
LOCATION: Onbekend |   Regio Heerenveen / Joure
SEQUENCE:0
STATUS:CONFIRMED
SUMMARY:Huldiging SC Cambuur
TRANSP:OPAQUE
END:VEVENT
END:VCALENDAR
