BEGIN:VCALENDAR
PRODID:-//PUBBLE//agenda//NL
VERSION:2.0
METHOD:PUBLISH
BEGIN:VEVENT
DTSTART:20270128T230000Z
DTEND:20270130T230000Z
DTSTAMP:20260424T133535Z
UID:c8e5d74f-1bec-4db3-851f-af9adabe9efc
CREATED:20260424T133535Z
NAME:Nationaal Theaterweekend oudega-swf.nl
X-WR-CALNAME:Nationaal Theaterweekend
X-ALT-DESC;FMTTYPE=text/html:<a href='/agenda/2027/1/29/nationaal-theaterweekend-131148'>/agenda/2027/1/29/nationaal-theaterweekend-131148</a> || <p><strong>Je stapt er zo binnen voor een flinke dosis creativiteit, verrassende makers en optredens die je zintuigen wakker schudden.</strong></p>
<p>Voor een klein bedrag pak je muziek, dans, toneel, cabaret, musical of jeugdtheater mee. De drempel is laag, de energie hoog. Je ontmoet nieuwe gezichten, ontdekt andere perspectieven en voelt wat theater met je doet. <em>Foar elkenien</em>, van doorgewinterde bezoekers tot mensen die gewoon nieuwsgierig binnenlopen.</p>
<p><em>Meer informatie volgt.</em></p>
DESCRIPTION:<a href='/agenda/2027/1/29/nationaal-theaterweekend-131148'>/agenda/2027/1/29/nationaal-theaterweekend-131148</a> || <p><strong>Je stapt er zo binnen voor een flinke dosis creativiteit, verrassende makers en optredens die je zintuigen wakker schudden.</strong></p>
<p>Voor een klein bedrag pak je muziek, dans, toneel, cabaret, musical of jeugdtheater mee. De drempel is laag, de energie hoog. Je ontmoet nieuwe gezichten, ontdekt andere perspectieven en voelt wat theater met je doet. <em>Foar elkenien</em>, van doorgewinterde bezoekers tot mensen die gewoon nieuwsgierig binnenlopen.</p>
<p><em>Meer informatie volgt.</em></p>
LAST-MODIFIED:20260424T133535Z
LOCATION: Diverse locaties |   Friesland
SEQUENCE:0
STATUS:CONFIRMED
SUMMARY:Nationaal Theaterweekend
TRANSP:OPAQUE
END:VEVENT
END:VCALENDAR
